BEGIN:VCALENDAR
PRODID:-//www.undertheradar.co.nz//NONSGML Undertheradar//EN
VERSION:2.0
BEGIN:VEVENT
DESCRIPTION:The Weather Machine | Auckland Debut w/ Haiku Redo - Whammy Bar, Auckland
UID:1190175379-86475@undertheradar.co.nz
DTSTAMP:20231123T200000Z
DTSTART:20231123T200000
DTEND:20231123T200059
SUMMARY:The Weather Machine | Auckland Debut w/ Haiku Redo
LOCATION:Whammy Bar, Auckland
URL:http://www.undertheradar.co.nz/gig/86475/gig.utr
END:VEVENT
END:VCALENDAR

