BEGIN:VCALENDAR
PRODID:-//www.undertheradar.co.nz//NONSGML Undertheradar//EN
VERSION:2.0
BEGIN:VEVENT
DESCRIPTION:Ulterior Motive + PUC - At The Ufo - UFO, Auckland
UID:1190175379-86516@undertheradar.co.nz
DTSTAMP:20231020T183000Z
DTSTART:20231020T183000
DTEND:20231020T183059
SUMMARY:Ulterior Motive + PUC - At The Ufo
LOCATION:UFO, Auckland
URL:http://www.undertheradar.co.nz/gig/86516/gig.utr
END:VEVENT
END:VCALENDAR

