BEGIN:VCALENDAR
PRODID:-//www.undertheradar.co.nz//NONSGML Undertheradar//EN
VERSION:2.0
BEGIN:VEVENT
DESCRIPTION:Paige: King Clown Tour - Meow, Wellington
UID:1190175379-86521@undertheradar.co.nz
DTSTAMP:20231122T193000Z
DTSTART:20231122T193000
DTEND:20231122T193059
SUMMARY:Paige: King Clown Tour
LOCATION:Meow, Wellington
URL:http://www.undertheradar.co.nz/gig/86521/gig.utr
END:VEVENT
END:VCALENDAR

