BEGIN:VCALENDAR
PRODID:-//www.undertheradar.co.nz//NONSGML Undertheradar//EN
VERSION:2.0
BEGIN:VEVENT
DESCRIPTION:Cloudboy - Unitarian Church, Auckland
UID:1190175379-86659@undertheradar.co.nz
DTSTAMP:20231119T143000Z
DTSTART:20231119T143000
DTEND:20231119T143059
SUMMARY:Cloudboy
LOCATION:Unitarian Church, Auckland
URL:http://www.undertheradar.co.nz/gig/86659/gig.utr
END:VEVENT
END:VCALENDAR

