BEGIN:VCALENDAR
PRODID:-//www.undertheradar.co.nz//NONSGML Undertheradar//EN
VERSION:2.0
BEGIN:VEVENT
DESCRIPTION:Matt Corby - The Powerstation, Auckland
UID:1190175379-86667@undertheradar.co.nz
DTSTAMP:20231201T190000Z
DTSTART:20231201T190000
DTEND:20231201T190059
SUMMARY:Matt Corby
LOCATION:The Powerstation, Auckland
URL:http://www.undertheradar.co.nz/gig/86667/gig.utr
END:VEVENT
END:VCALENDAR

