BEGIN:VCALENDAR
PRODID:-//www.undertheradar.co.nz//NONSGML Undertheradar//EN
VERSION:2.0
BEGIN:VEVENT
DESCRIPTION:A Live Tribute To Pharrell Performed By Yoko-Zuna - Ponsonby Social Club, Auckland
UID:1190175379-87111@undertheradar.co.nz
DTSTAMP:20231215T190000Z
DTSTART:20231215T190000
DTEND:20231215T190059
SUMMARY:A Live Tribute To Pharrell Performed By Yoko-Zuna
LOCATION:Ponsonby Social Club, Auckland
URL:http://www.undertheradar.co.nz/gig/87111/gig.utr
END:VEVENT
END:VCALENDAR

