BEGIN:VCALENDAR
PRODID:-//www.undertheradar.co.nz//NONSGML Undertheradar//EN
VERSION:2.0
BEGIN:VEVENT
DESCRIPTION:Good Habits - Takaka Hill, Takaka 
UID:1190175379-87313@undertheradar.co.nz
DTSTAMP:20240203T120000Z
DTSTART:20240203T120000
DTEND:20240203T120059
SUMMARY:Good Habits
LOCATION:Takaka Hill, Takaka 
URL:http://www.undertheradar.co.nz/gig/87313/gig.utr
END:VEVENT
END:VCALENDAR

