BEGIN:VCALENDAR
PRODID:-//www.undertheradar.co.nz//NONSGML Undertheradar//EN
VERSION:2.0
BEGIN:VEVENT
DESCRIPTION:Nick Dow - Whammy Bar, Auckland
UID:1190175379-87387@undertheradar.co.nz
DTSTAMP:20231210T180000Z
DTSTART:20231210T180000
DTEND:20231210T180059
SUMMARY:Nick Dow
LOCATION:Whammy Bar, Auckland
URL:http://www.undertheradar.co.nz/gig/87387/gig.utr
END:VEVENT
END:VCALENDAR

