BEGIN:VCALENDAR
PRODID:-//www.undertheradar.co.nz//NONSGML Undertheradar//EN
VERSION:2.0
BEGIN:VEVENT
DESCRIPTION:Lila Soloists - Big Fan, Auckland
UID:1190175379-87459@undertheradar.co.nz
DTSTAMP:20231214T163000Z
DTSTART:20231214T163000
DTEND:20231214T163059
SUMMARY:Lila Soloists
LOCATION:Big Fan, Auckland
URL:http://www.undertheradar.co.nz/gig/87459/gig.utr
END:VEVENT
END:VCALENDAR

