BEGIN:VCALENDAR
PRODID:-//www.undertheradar.co.nz//NONSGML Undertheradar//EN
VERSION:2.0
BEGIN:VEVENT
DESCRIPTION:Fool's Lagoon Presents Fool Me Twice Ep Release Show (All Ages) - Underground, Auckland
UID:1190175379-87561@undertheradar.co.nz
DTSTAMP:20231216T200000Z
DTSTART:20231216T200000
DTEND:20231216T200059
SUMMARY:Fool's Lagoon Presents Fool Me Twice Ep Release Show (All Ages)
LOCATION:Underground, Auckland
URL:http://www.undertheradar.co.nz/gig/87561/gig.utr
END:VEVENT
END:VCALENDAR

