BEGIN:VCALENDAR
PRODID:-//www.undertheradar.co.nz//NONSGML Undertheradar//EN
VERSION:2.0
BEGIN:VEVENT
DESCRIPTION:Codes - In Plain Sight, Queer Songs Homophobes Love, Auckland Pride - The Wine Cellar, Auckland
UID:1190175379-87617@undertheradar.co.nz
DTSTAMP:20240229T200000Z
DTSTART:20240229T200000
DTEND:20240229T200059
SUMMARY:Codes - In Plain Sight, Queer Songs Homophobes Love, Auckland Pride
LOCATION:The Wine Cellar, Auckland
URL:http://www.undertheradar.co.nz/gig/87617/gig.utr
END:VEVENT
END:VCALENDAR

