BEGIN:VCALENDAR
PRODID:-//www.undertheradar.co.nz//NONSGML Undertheradar//EN
VERSION:2.0
BEGIN:VEVENT
DESCRIPTION:George Benson To Brazil - Freida Margolis, Auckland
UID:1190175379-87816@undertheradar.co.nz
DTSTAMP:20231221T190000Z
DTSTART:20231221T190000
DTEND:20231221T190059
SUMMARY:George Benson To Brazil
LOCATION:Freida Margolis, Auckland
URL:http://www.undertheradar.co.nz/gig/87816/gig.utr
END:VEVENT
END:VCALENDAR

