BEGIN:VCALENDAR
PRODID:-//www.undertheradar.co.nz//NONSGML Undertheradar//EN
VERSION:2.0
BEGIN:VEVENT
DESCRIPTION:Mountain Boy | The Days Tour - Big Fan, Auckland
UID:1190175379-87846@undertheradar.co.nz
DTSTAMP:20240222T193000Z
DTSTART:20240222T193000
DTEND:20240222T193059
SUMMARY:Mountain Boy | The Days Tour
LOCATION:Big Fan, Auckland
URL:http://www.undertheradar.co.nz/gig/87846/gig.utr
END:VEVENT
END:VCALENDAR

