BEGIN:VCALENDAR
PRODID:-//www.undertheradar.co.nz//NONSGML Undertheradar//EN
VERSION:2.0
BEGIN:VEVENT
DESCRIPTION:Mr Bruce - San Fran, Wellington
UID:1190175379-87974@undertheradar.co.nz
DTSTAMP:20240213T193000Z
DTSTART:20240213T193000
DTEND:20240213T193059
SUMMARY:Mr Bruce
LOCATION:San Fran, Wellington
URL:http://www.undertheradar.co.nz/gig/87974/gig.utr
END:VEVENT
END:VCALENDAR

