BEGIN:VCALENDAR
PRODID:-//www.undertheradar.co.nz//NONSGML Undertheradar//EN
VERSION:2.0
BEGIN:VEVENT
DESCRIPTION:Chaos In The CBD - All Night Long - The Powerstation, Auckland
UID:1190175379-88069@undertheradar.co.nz
DTSTAMP:20240308T200000Z
DTSTART:20240308T200000
DTEND:20240308T200059
SUMMARY:Chaos In The CBD - All Night Long
LOCATION:The Powerstation, Auckland
URL:http://www.undertheradar.co.nz/gig/88069/gig.utr
END:VEVENT
END:VCALENDAR

