BEGIN:VCALENDAR
PRODID:-//www.undertheradar.co.nz//NONSGML Undertheradar//EN
VERSION:2.0
BEGIN:VEVENT
DESCRIPTION:Len Blake _ Alba Rose - Big Fan, Auckland
UID:1190175379-88088@undertheradar.co.nz
DTSTAMP:20240204T200000Z
DTSTART:20240204T200000
DTEND:20240204T200059
SUMMARY:Len Blake _ Alba Rose
LOCATION:Big Fan, Auckland
URL:http://www.undertheradar.co.nz/gig/88088/gig.utr
END:VEVENT
END:VCALENDAR

