BEGIN:VCALENDAR
PRODID:-//www.undertheradar.co.nz//NONSGML Undertheradar//EN
VERSION:2.0
BEGIN:VEVENT
DESCRIPTION:Splore Festival - 23-25 February - Tapapakanga Regional Park, Auckland
UID:1190175379-88460@undertheradar.co.nz
DTSTAMP:20240223T080000Z
DTSTART:20240223T080000
DTEND:20240223T080059
SUMMARY:Splore Festival - 23-25 February
LOCATION:Tapapakanga Regional Park, Auckland
URL:http://www.undertheradar.co.nz/gig/88460/gig.utr
END:VEVENT
END:VCALENDAR

