BEGIN:VCALENDAR
PRODID:-//www.undertheradar.co.nz//NONSGML Undertheradar//EN
VERSION:2.0
BEGIN:VEVENT
DESCRIPTION:Paul Ubana Jones @ Wild Estate - Wild on Waiheke, Waiheke Island
UID:1190175379-88473@undertheradar.co.nz
DTSTAMP:20240316T180000Z
DTSTART:20240316T180000
DTEND:20240316T180059
SUMMARY:Paul Ubana Jones @ Wild Estate
LOCATION:Wild on Waiheke, Waiheke Island
URL:http://www.undertheradar.co.nz/gig/88473/gig.utr
END:VEVENT
END:VCALENDAR

