BEGIN:VCALENDAR
PRODID:-//www.undertheradar.co.nz//NONSGML Undertheradar//EN
VERSION:2.0
BEGIN:VEVENT
DESCRIPTION:The Tuning Fork's Monday Music Quiz - The Tuning Fork, Auckland
UID:1190175379-89016@undertheradar.co.nz
DTSTAMP:20240415T183000Z
DTSTART:20240415T183000
DTEND:20240415T183059
SUMMARY:The Tuning Fork's Monday Music Quiz
LOCATION:The Tuning Fork, Auckland
URL:http://www.undertheradar.co.nz/gig/89016/gig.utr
END:VEVENT
END:VCALENDAR

