BEGIN:VCALENDAR
PRODID:-//www.undertheradar.co.nz//NONSGML Undertheradar//EN
VERSION:2.0
BEGIN:VEVENT
DESCRIPTION:Sounds Fun For Kids - Anika Moa - The Tuning Fork, Auckland
UID:1190175379-89062@undertheradar.co.nz
DTSTAMP:20240324T093000Z
DTSTART:20240324T093000
DTEND:20240324T093059
SUMMARY:Sounds Fun For Kids - Anika Moa
LOCATION:The Tuning Fork, Auckland
URL:http://www.undertheradar.co.nz/gig/89062/gig.utr
END:VEVENT
END:VCALENDAR

