BEGIN:VCALENDAR
PRODID:-//www.undertheradar.co.nz//NONSGML Undertheradar//EN
VERSION:2.0
BEGIN:VEVENT
DESCRIPTION:The Nukes Ukulele Trio Workshop And Show  Pukekohe - Franklin Arts Centre, Auckland
UID:1190175379-89081@undertheradar.co.nz
DTSTAMP:20240406T174500Z
DTSTART:20240406T174500
DTEND:20240406T174559
SUMMARY:The Nukes Ukulele Trio Workshop And Show  Pukekohe
LOCATION:Franklin Arts Centre, Auckland
URL:http://www.undertheradar.co.nz/gig/89081/gig.utr
END:VEVENT
END:VCALENDAR

