BEGIN:VCALENDAR
PRODID:-//www.undertheradar.co.nz//NONSGML Undertheradar//EN
VERSION:2.0
BEGIN:VEVENT
DESCRIPTION:The Nukes Ukulele Trio  Childrens Workshop And Big Family Show Pukekohe - Franklin Arts Centre, Auckland
UID:1190175379-89082@undertheradar.co.nz
DTSTAMP:20240406T131500Z
DTSTART:20240406T131500
DTEND:20240406T131559
SUMMARY:The Nukes Ukulele Trio  Childrens Workshop And Big Family Show Pukekohe
LOCATION:Franklin Arts Centre, Auckland
URL:http://www.undertheradar.co.nz/gig/89082/gig.utr
END:VEVENT
END:VCALENDAR

