BEGIN:VCALENDAR
PRODID:-//www.undertheradar.co.nz//NONSGML Undertheradar//EN
VERSION:2.0
BEGIN:VEVENT
DESCRIPTION:Nick Hyde  - The Mountain Album Release Tour - Tika Pono Toi Gallery, Dargaville
UID:1190175379-89103@undertheradar.co.nz
DTSTAMP:20240414T150000Z
DTSTART:20240414T150000
DTEND:20240414T150059
SUMMARY:Nick Hyde  - The Mountain Album Release Tour
LOCATION:Tika Pono Toi Gallery, Dargaville
URL:http://www.undertheradar.co.nz/gig/89103/gig.utr
END:VEVENT
END:VCALENDAR

