BEGIN:VCALENDAR
PRODID:-//www.undertheradar.co.nz//NONSGML Undertheradar//EN
VERSION:2.0
BEGIN:VEVENT
DESCRIPTION:Offside EP Release Show Ft The Boondocks And Edible - Blondies All Day, Auckland
UID:1190175379-89161@undertheradar.co.nz
DTSTAMP:20240419T190000Z
DTSTART:20240419T190000
DTEND:20240419T190059
SUMMARY:Offside EP Release Show Ft The Boondocks And Edible
LOCATION:Blondies All Day, Auckland
URL:http://www.undertheradar.co.nz/gig/89161/gig.utr
END:VEVENT
END:VCALENDAR

