BEGIN:VCALENDAR
PRODID:-//www.undertheradar.co.nz//NONSGML Undertheradar//EN
VERSION:2.0
BEGIN:VEVENT
DESCRIPTION:New Zealand Music Month Takeover - The Wanderers Club, Auckland
UID:1190175379-89321@undertheradar.co.nz
DTSTAMP:20240525T203000Z
DTSTART:20240525T203000
DTEND:20240525T203059
SUMMARY:New Zealand Music Month Takeover
LOCATION:The Wanderers Club, Auckland
URL:http://www.undertheradar.co.nz/gig/89321/gig.utr
END:VEVENT
END:VCALENDAR

