BEGIN:VCALENDAR
PRODID:-//www.undertheradar.co.nz//NONSGML Undertheradar//EN
VERSION:2.0
BEGIN:VEVENT
DESCRIPTION:Anika Nilles Drum Clinic - MusicWorks Auckland, Auckland
UID:1190175379-89385@undertheradar.co.nz
DTSTAMP:20240709T190000Z
DTSTART:20240709T190000
DTEND:20240709T190059
SUMMARY:Anika Nilles Drum Clinic
LOCATION:MusicWorks Auckland, Auckland
URL:http://www.undertheradar.co.nz/gig/89385/gig.utr
END:VEVENT
END:VCALENDAR

