BEGIN:VCALENDAR
PRODID:-//www.undertheradar.co.nz//NONSGML Undertheradar//EN
VERSION:2.0
BEGIN:VEVENT
DESCRIPTION:Urban Invasion - Dead Witch, Auckland
UID:1190175379-89409@undertheradar.co.nz
DTSTAMP:20240426T190000Z
DTSTART:20240426T190000
DTEND:20240426T190059
SUMMARY:Urban Invasion
LOCATION:Dead Witch, Auckland
URL:http://www.undertheradar.co.nz/gig/89409/gig.utr
END:VEVENT
END:VCALENDAR

