BEGIN:VCALENDAR
PRODID:-//www.undertheradar.co.nz//NONSGML Undertheradar//EN
VERSION:2.0
BEGIN:VEVENT
DESCRIPTION:Tom Rodwell _ Manimanima - Books on High, Auckland
UID:1190175379-89455@undertheradar.co.nz
DTSTAMP:20240421T140000Z
DTSTART:20240421T140000
DTEND:20240421T140059
SUMMARY:Tom Rodwell _ Manimanima
LOCATION:Books on High, Auckland
URL:http://www.undertheradar.co.nz/gig/89455/gig.utr
END:VEVENT
END:VCALENDAR

