BEGIN:VCALENDAR
PRODID:-//www.undertheradar.co.nz//NONSGML Undertheradar//EN
VERSION:2.0
BEGIN:VEVENT
DESCRIPTION:Nat Hathaway - Hold Me - Album Release Show - Ponsonby Social Club, Auckland
UID:1190175379-89548@undertheradar.co.nz
DTSTAMP:20240510T190000Z
DTSTART:20240510T190000
DTEND:20240510T190059
SUMMARY:Nat Hathaway - Hold Me - Album Release Show
LOCATION:Ponsonby Social Club, Auckland
URL:http://www.undertheradar.co.nz/gig/89548/gig.utr
END:VEVENT
END:VCALENDAR

