BEGIN:VCALENDAR
PRODID:-//www.undertheradar.co.nz//NONSGML Undertheradar//EN
VERSION:2.0
BEGIN:VEVENT
DESCRIPTION:Bob Mould 2024 NZ Tour - The Powerstation, Auckland
UID:1190175379-89587@undertheradar.co.nz
DTSTAMP:20241123T200000Z
DTSTART:20241123T200000
DTEND:20241123T200059
SUMMARY:Bob Mould 2024 NZ Tour
LOCATION:The Powerstation, Auckland
URL:http://www.undertheradar.co.nz/gig/89587/gig.utr
END:VEVENT
END:VCALENDAR

