BEGIN:VCALENDAR
PRODID:-//www.undertheradar.co.nz//NONSGML Undertheradar//EN
VERSION:2.0
BEGIN:VEVENT
DESCRIPTION:Hermione Johnson - AF Saturday 4pm Concert #3 - Audio Foundation, Auckland
UID:1190175379-89661@undertheradar.co.nz
DTSTAMP:20240518T154500Z
DTSTART:20240518T154500
DTEND:20240518T154559
SUMMARY:Hermione Johnson - AF Saturday 4pm Concert #3
LOCATION:Audio Foundation, Auckland
URL:http://www.undertheradar.co.nz/gig/89661/gig.utr
END:VEVENT
END:VCALENDAR

