BEGIN:VCALENDAR
PRODID:-//www.undertheradar.co.nz//NONSGML Undertheradar//EN
VERSION:2.0
BEGIN:VEVENT
DESCRIPTION:Cloudy Live - Ponsonby Social Club, Auckland
UID:1190175379-89952@undertheradar.co.nz
DTSTAMP:20240531T190000Z
DTSTART:20240531T190000
DTEND:20240531T190059
SUMMARY:Cloudy Live
LOCATION:Ponsonby Social Club, Auckland
URL:http://www.undertheradar.co.nz/gig/89952/gig.utr
END:VEVENT
END:VCALENDAR

