BEGIN:VCALENDAR
PRODID:-//www.undertheradar.co.nz//NONSGML Undertheradar//EN
VERSION:2.0
BEGIN:VEVENT
DESCRIPTION:Paige Julia - Anathema EP Release (AKL) - Neck of the Woods, Auckland
UID:1190175379-89962@undertheradar.co.nz
DTSTAMP:20240531T220000Z
DTSTART:20240531T220000
DTEND:20240531T220059
SUMMARY:Paige Julia - Anathema EP Release (AKL)
LOCATION:Neck of the Woods, Auckland
URL:http://www.undertheradar.co.nz/gig/89962/gig.utr
END:VEVENT
END:VCALENDAR

