BEGIN:VCALENDAR
PRODID:-//www.undertheradar.co.nz//NONSGML Undertheradar//EN
VERSION:2.0
BEGIN:VEVENT
DESCRIPTION:Hollie Smith 'The Bones Tour' II - Whanganui - Porridge Watson, Whanganui
UID:1190175379-90037@undertheradar.co.nz
DTSTAMP:20240707T180000Z
DTSTART:20240707T180000
DTEND:20240707T180059
SUMMARY:Hollie Smith 'The Bones Tour' II - Whanganui
LOCATION:Porridge Watson, Whanganui
URL:http://www.undertheradar.co.nz/gig/90037/gig.utr
END:VEVENT
END:VCALENDAR

