BEGIN:VCALENDAR
PRODID:-//www.undertheradar.co.nz//NONSGML Undertheradar//EN
VERSION:2.0
BEGIN:VEVENT
DESCRIPTION:Torana, Murdur Wun With Djs Chopper And Sicoff - Cupid Bar, Auckland
UID:1190175379-90146@undertheradar.co.nz
DTSTAMP:20240525T200000Z
DTSTART:20240525T200000
DTEND:20240525T200059
SUMMARY:Torana, Murdur Wun With Djs Chopper And Sicoff
LOCATION:Cupid Bar, Auckland
URL:http://www.undertheradar.co.nz/gig/90146/gig.utr
END:VEVENT
END:VCALENDAR

