BEGIN:VCALENDAR
PRODID:-//www.undertheradar.co.nz//NONSGML Undertheradar//EN
VERSION:2.0
BEGIN:VEVENT
DESCRIPTION:Mrsic Feather Henderson + Squanch - Audio Foundation, Auckland
UID:1190175379-90310@undertheradar.co.nz
DTSTAMP:20240523T194500Z
DTSTART:20240523T194500
DTEND:20240523T194559
SUMMARY:Mrsic Feather Henderson + Squanch
LOCATION:Audio Foundation, Auckland
URL:http://www.undertheradar.co.nz/gig/90310/gig.utr
END:VEVENT
END:VCALENDAR

