BEGIN:VCALENDAR
PRODID:-//www.undertheradar.co.nz//NONSGML Undertheradar//EN
VERSION:2.0
BEGIN:VEVENT
DESCRIPTION:Ben Howard - Great Hall, Auckland Town Hall, Auckland
UID:1190175379-90364@undertheradar.co.nz
DTSTAMP:20240603T190000Z
DTSTART:20240603T190000
DTEND:20240603T190059
SUMMARY:Ben Howard
LOCATION:Great Hall, Auckland Town Hall, Auckland
URL:http://www.undertheradar.co.nz/gig/90364/gig.utr
END:VEVENT
END:VCALENDAR

