BEGIN:VCALENDAR
PRODID:-//www.undertheradar.co.nz//NONSGML Undertheradar//EN
VERSION:2.0
BEGIN:VEVENT
DESCRIPTION:Frankensonics Microconcerts (session 04) - Friday 5 July - Audio Foundation, Auckland
UID:1190175379-90489@undertheradar.co.nz
DTSTAMP:20240705T193000Z
DTSTART:20240705T193000
DTEND:20240705T193059
SUMMARY:Frankensonics Microconcerts (session 04) - Friday 5 July
LOCATION:Audio Foundation, Auckland
URL:http://www.undertheradar.co.nz/gig/90489/gig.utr
END:VEVENT
END:VCALENDAR

