BEGIN:VCALENDAR
PRODID:-//www.undertheradar.co.nz//NONSGML Undertheradar//EN
VERSION:2.0
BEGIN:VEVENT
DESCRIPTION:Keira Wallace Single Release With Leigham Fitzpatrick And Jesse Hanan - Yours, Dunedin
UID:1190175379-90629@undertheradar.co.nz
DTSTAMP:20240719T193000Z
DTSTART:20240719T193000
DTEND:20240719T193059
SUMMARY:Keira Wallace Single Release With Leigham Fitzpatrick And Jesse Hanan
LOCATION:Yours, Dunedin
URL:http://www.undertheradar.co.nz/gig/90629/gig.utr
END:VEVENT
END:VCALENDAR

