BEGIN:VCALENDAR
PRODID:-//www.undertheradar.co.nz//NONSGML Undertheradar//EN
VERSION:2.0
BEGIN:VEVENT
DESCRIPTION:Dean Lewis - Kiri Te Kanawa Theatre, Auckland
UID:1190175379-90702@undertheradar.co.nz
DTSTAMP:20241110T190000Z
DTSTART:20241110T190000
DTEND:20241110T190059
SUMMARY:Dean Lewis
LOCATION:Kiri Te Kanawa Theatre, Auckland
URL:http://www.undertheradar.co.nz/gig/90702/gig.utr
END:VEVENT
END:VCALENDAR

