BEGIN:VCALENDAR
PRODID:-//www.undertheradar.co.nz//NONSGML Undertheradar//EN
VERSION:2.0
BEGIN:VEVENT
DESCRIPTION:Gabriella Gonzalez DJ - Crown Range Lounge, Auckland
UID:1190175379-90745@undertheradar.co.nz
DTSTAMP:20240615T210000Z
DTSTART:20240615T210000
DTEND:20240615T210059
SUMMARY:Gabriella Gonzalez DJ
LOCATION:Crown Range Lounge, Auckland
URL:http://www.undertheradar.co.nz/gig/90745/gig.utr
END:VEVENT
END:VCALENDAR

