BEGIN:VCALENDAR
PRODID:-//www.undertheradar.co.nz//NONSGML Undertheradar//EN
VERSION:2.0
BEGIN:VEVENT
DESCRIPTION:Summer Songwriting Retreat - Brackenridge Country Retreat  Spa, Martinborough
UID:1190175379-90891@undertheradar.co.nz
DTSTAMP:20250126T180000Z
DTSTART:20250126T180000
DTEND:20250126T180059
SUMMARY:Summer Songwriting Retreat
LOCATION:Brackenridge Country Retreat  Spa, Martinborough
URL:http://www.undertheradar.co.nz/gig/90891/gig.utr
END:VEVENT
END:VCALENDAR

