BEGIN:VCALENDAR
PRODID:-//www.undertheradar.co.nz//NONSGML Undertheradar//EN
VERSION:2.0
BEGIN:VEVENT
DESCRIPTION:Thinking Foxes And Club Ruby At The Wine Cellar - The End Of An Era - The Wine Cellar, Auckland
UID:1190175379-90944@undertheradar.co.nz
DTSTAMP:20240802T200000Z
DTSTART:20240802T200000
DTEND:20240802T200059
SUMMARY:Thinking Foxes And Club Ruby At The Wine Cellar - The End Of An Era
LOCATION:The Wine Cellar, Auckland
URL:http://www.undertheradar.co.nz/gig/90944/gig.utr
END:VEVENT
END:VCALENDAR

