BEGIN:VCALENDAR
PRODID:-//www.undertheradar.co.nz//NONSGML Undertheradar//EN
VERSION:2.0
BEGIN:VEVENT
DESCRIPTION:The Melancholy Babes - New Jazz From The Big City 2024 Tour - Pah Homestead, Auckland
UID:1190175379-90985@undertheradar.co.nz
DTSTAMP:20240828T190000Z
DTSTART:20240828T190000
DTEND:20240828T190059
SUMMARY:The Melancholy Babes - New Jazz From The Big City 2024 Tour
LOCATION:Pah Homestead, Auckland
URL:http://www.undertheradar.co.nz/gig/90985/gig.utr
END:VEVENT
END:VCALENDAR

