BEGIN:VCALENDAR
PRODID:-//www.undertheradar.co.nz//NONSGML Undertheradar//EN
VERSION:2.0
BEGIN:VEVENT
DESCRIPTION:Young Moon-The Slow Tour - Big Fan, Auckland
UID:1190175379-90996@undertheradar.co.nz
DTSTAMP:20241019T200000Z
DTSTART:20241019T200000
DTEND:20241019T200059
SUMMARY:Young Moon-The Slow Tour
LOCATION:Big Fan, Auckland
URL:http://www.undertheradar.co.nz/gig/90996/gig.utr
END:VEVENT
END:VCALENDAR

