BEGIN:VCALENDAR
PRODID:-//www.undertheradar.co.nz//NONSGML Undertheradar//EN
VERSION:2.0
BEGIN:VEVENT
DESCRIPTION:Primer. W. Jim Nothing And Whipping Star - 605 Morningside, Auckland
UID:1190175379-91176@undertheradar.co.nz
DTSTAMP:20240727T163000Z
DTSTART:20240727T163000
DTEND:20240727T163059
SUMMARY:Primer. W. Jim Nothing And Whipping Star
LOCATION:605 Morningside, Auckland
URL:http://www.undertheradar.co.nz/gig/91176/gig.utr
END:VEVENT
END:VCALENDAR

