BEGIN:VCALENDAR
PRODID:-//www.undertheradar.co.nz//NONSGML Undertheradar//EN
VERSION:2.0
BEGIN:VEVENT
DESCRIPTION:A Night To Show Off Midwinter Xmas Edition - Cassette Nine, Auckland
UID:1190175379-91299@undertheradar.co.nz
DTSTAMP:20240817T200000Z
DTSTART:20240817T200000
DTEND:20240817T200059
SUMMARY:A Night To Show Off Midwinter Xmas Edition
LOCATION:Cassette Nine, Auckland
URL:http://www.undertheradar.co.nz/gig/91299/gig.utr
END:VEVENT
END:VCALENDAR

