BEGIN:VCALENDAR
PRODID:-//www.undertheradar.co.nz//NONSGML Undertheradar//EN
VERSION:2.0
BEGIN:VEVENT
DESCRIPTION:Mike Hall - Nothing Stands Still Album Release Show - Freida Margolis, Auckland
UID:1190175379-91366@undertheradar.co.nz
DTSTAMP:20240918T190000Z
DTSTART:20240918T190000
DTEND:20240918T190059
SUMMARY:Mike Hall - Nothing Stands Still Album Release Show
LOCATION:Freida Margolis, Auckland
URL:http://www.undertheradar.co.nz/gig/91366/gig.utr
END:VEVENT
END:VCALENDAR

