BEGIN:VCALENDAR
PRODID:-//www.undertheradar.co.nz//NONSGML Undertheradar//EN
VERSION:2.0
BEGIN:VEVENT
DESCRIPTION:Bells And Whistles Full Activation - Audio Foundation, Auckland
UID:1190175379-91378@undertheradar.co.nz
DTSTAMP:20240727T160000Z
DTSTART:20240727T160000
DTEND:20240727T160059
SUMMARY:Bells And Whistles Full Activation
LOCATION:Audio Foundation, Auckland
URL:http://www.undertheradar.co.nz/gig/91378/gig.utr
END:VEVENT
END:VCALENDAR

