BEGIN:VCALENDAR
PRODID:-//www.undertheradar.co.nz//NONSGML Undertheradar//EN
VERSION:2.0
BEGIN:VEVENT
DESCRIPTION:Bella Mae And Corner Store Present: Heart For The Heads - Heartbreaker Bar, Wellington
UID:1190175379-91533@undertheradar.co.nz
DTSTAMP:20240809T210000Z
DTSTART:20240809T210000
DTEND:20240809T210059
SUMMARY:Bella Mae And Corner Store Present: Heart For The Heads
LOCATION:Heartbreaker Bar, Wellington
URL:http://www.undertheradar.co.nz/gig/91533/gig.utr
END:VEVENT
END:VCALENDAR

